BEGIN:VCALENDAR
VERSION:2.0
PRODID:-//Albufeira - ECPv6.15.12.2//NONSGML v1.0//EN
CALSCALE:GREGORIAN
METHOD:PUBLISH
X-WR-CALNAME:Albufeira
X-ORIGINAL-URL:https://poctepalbufeira.org
X-WR-CALDESC:Eventos para Albufeira
REFRESH-INTERVAL;VALUE=DURATION:PT1H
X-Robots-Tag:noindex
X-PUBLISHED-TTL:PT1H
BEGIN:VTIMEZONE
TZID:UTC
BEGIN:STANDARD
TZOFFSETFROM:+0000
TZOFFSETTO:+0000
TZNAME:UTC
DTSTART:20200101T000000
END:STANDARD
END:VTIMEZONE
BEGIN:VEVENT
DTSTART;VALUE=DATE:20211210
DTEND;VALUE=DATE:20211211
DTSTAMP:20260421T043942
CREATED:20211125T111837Z
LAST-MODIFIED:20211125T111837Z
UID:2178-1639094400-1639180799@poctepalbufeira.org
SUMMARY:Actividad escolar "Nuestra cuenca" CEIP Plurilingüe e Abalar Nº 2 de Tui
DESCRIPTION:Los alumnos de 4º realizarán actividades relacionadas con información referente a la Cuenca del Miño-Sil y formarán parte de una yincana.
URL:https://poctepalbufeira.org/event/actividad-escolar-nuestra-cuenca-ceip-plurilingue-e-abalar-no-2-de-tui-2/
LOCATION:CEIP Plurilingüe e Abalar Nº 2\, Av. da Concordia\, s/n\, Tui\, Pontevedra\, 36700\, España
END:VEVENT
END:VCALENDAR