BEGIN:VCALENDAR
VERSION:2.0
PRODID:-//Albufeira - ECPv6.15.12.2//NONSGML v1.0//EN
CALSCALE:GREGORIAN
METHOD:PUBLISH
X-WR-CALNAME:Albufeira
X-ORIGINAL-URL:https://poctepalbufeira.org
X-WR-CALDESC:Eventos para Albufeira
REFRESH-INTERVAL;VALUE=DURATION:PT1H
X-Robots-Tag:noindex
X-PUBLISHED-TTL:PT1H
BEGIN:VTIMEZONE
TZID:UTC
BEGIN:STANDARD
TZOFFSETFROM:+0000
TZOFFSETTO:+0000
TZNAME:UTC
DTSTART:20210101T000000
END:STANDARD
END:VTIMEZONE
BEGIN:VEVENT
DTSTART;VALUE=DATE:20220216
DTEND;VALUE=DATE:20220217
DTSTAMP:20260420T085852
CREATED:20220214T104956Z
LAST-MODIFIED:20220214T104956Z
UID:4665-1644969600-1645055999@poctepalbufeira.org
SUMMARY:CEIP Jacinto Benavente (Zamora) Consumo responsable (6º) + Caudal ¿Por qué varía? (5º)
DESCRIPTION:
URL:https://poctepalbufeira.org/event/ceip-jacinto-benavente-zamora-consumo-responsable-6o-caudal-por-que-varia-5o/
END:VEVENT
END:VCALENDAR