BEGIN:VCALENDAR
VERSION:2.0
PRODID:-//Albufeira - ECPv6.15.12.2//NONSGML v1.0//EN
CALSCALE:GREGORIAN
METHOD:PUBLISH
X-WR-CALNAME:Albufeira
X-ORIGINAL-URL:https://poctepalbufeira.org
X-WR-CALDESC:Eventos para Albufeira
REFRESH-INTERVAL;VALUE=DURATION:PT1H
X-Robots-Tag:noindex
X-PUBLISHED-TTL:PT1H
BEGIN:VTIMEZONE
TZID:UTC
BEGIN:STANDARD
TZOFFSETFROM:+0000
TZOFFSETTO:+0000
TZNAME:UTC
DTSTART:20210101T000000
END:STANDARD
END:VTIMEZONE
BEGIN:VEVENT
DTSTART;VALUE=DATE:20220110
DTEND;VALUE=DATE:20220111
DTSTAMP:20260421T024831
CREATED:20211228T120336Z
LAST-MODIFIED:20211228T120336Z
UID:3339-1641772800-1641859199@poctepalbufeira.org
SUMMARY:CEIP Pazos de Reis (Tui) El río y los sentidos (1º y 2º)
DESCRIPTION:
URL:https://poctepalbufeira.org/event/ceip-pazos-de-reis-tui-el-rio-y-los-sentidos-1o-y-2o/
END:VEVENT
END:VCALENDAR