BEGIN:VCALENDAR
VERSION:2.0
PRODID:-//Albufeira - ECPv6.15.12.2//NONSGML v1.0//EN
CALSCALE:GREGORIAN
METHOD:PUBLISH
X-WR-CALNAME:Albufeira
X-ORIGINAL-URL:https://poctepalbufeira.org
X-WR-CALDESC:Eventos para Albufeira
REFRESH-INTERVAL;VALUE=DURATION:PT1H
X-Robots-Tag:noindex
X-PUBLISHED-TTL:PT1H
BEGIN:VTIMEZONE
TZID:UTC
BEGIN:STANDARD
TZOFFSETFROM:+0000
TZOFFSETTO:+0000
TZNAME:UTC
DTSTART:20210101T000000
END:STANDARD
END:VTIMEZONE
BEGIN:VEVENT
DTSTART;VALUE=DATE:20220120
DTEND;VALUE=DATE:20220121
DTSTAMP:20260420T175324
CREATED:20211228T165043Z
LAST-MODIFIED:20211228T165043Z
UID:3356-1642636800-1642723199@poctepalbufeira.org
SUMMARY:CEIP Plurilingüe e Abalar Nº 2 de Tui (Tui) Nuestra cuenca + Gymkana (4º)
DESCRIPTION:
URL:https://poctepalbufeira.org/event/ceip-plurilingue-e-abalar-no-2-de-tui-tui-nuestra-cuenca-gymkana-4o-2/
END:VEVENT
END:VCALENDAR