BEGIN:VCALENDAR
VERSION:2.0
PRODID:-//Albufeira - ECPv6.15.12.2//NONSGML v1.0//EN
CALSCALE:GREGORIAN
METHOD:PUBLISH
X-WR-CALNAME:Albufeira
X-ORIGINAL-URL:https://poctepalbufeira.org
X-WR-CALDESC:Eventos para Albufeira
REFRESH-INTERVAL;VALUE=DURATION:PT1H
X-Robots-Tag:noindex
X-PUBLISHED-TTL:PT1H
BEGIN:VTIMEZONE
TZID:UTC
BEGIN:STANDARD
TZOFFSETFROM:+0000
TZOFFSETTO:+0000
TZNAME:UTC
DTSTART:20210101T000000
END:STANDARD
END:VTIMEZONE
BEGIN:VEVENT
DTSTART;VALUE=DATE:20220112
DTEND;VALUE=DATE:20220113
DTSTAMP:20260420T161317
CREATED:20211228T171916Z
LAST-MODIFIED:20211228T171916Z
UID:3381-1641945600-1642031999@poctepalbufeira.org
SUMMARY:Colegio Nuestra Señora de los Remedios Caudal ¿Por qué varía? (5º-6º)
DESCRIPTION:
URL:https://poctepalbufeira.org/event/colegio-nuestra-senora-de-los-remedios-caudal-por-que-varia-5o-6o/
END:VEVENT
END:VCALENDAR